
BEGIN:VCALENDAR
VERSION:2.0
PRODID:-//MarkedsPartner AS//Umbraco CMS//NO
TIMEZONE-ID:Europe/Oslo
X-WR-TIMEZONE:Europe/Oslo


BEGIN:VEVENT
UID:6c258617b3494ceba386f34f40d767d9
URL:https://stavangernaering-2023.azurewebsites.net/moeter/arkiv/bygg-og-anleggsanalysen-2024/
ORGANIZER;CN=Ola Normann:MAILTO:ola.normann@markedspartner.no
DTSTAMP:20241107T170000Z
DTSTART:20241107T170000Z
DTEND:20241107T203000Z
LAST-MODIFIED:20241108T130638Z
SUMMARY:Bygg- og anleggsanalysen 2024: Dette er trendene
DESCRIPTION:Vi presenterer Bygg- og anleggsanalysen 2024, i samarbeid med BDO. Rapporten viser de viktigste bransjetrendene, hva vi kan forvente oss framover og ikke minst hva som skiller vår region fra resten av landet. Kvelden avsluttes med mingling, mat og god drikke.
X-ALT-DESC:Vi presenterer Bygg- og anleggsanalysen 2024, i samarbeid med BDO. Rapporten viser de viktigste bransjetrendene, hva vi kan forvente oss framover og ikke minst hva som skiller v&#229;r region fra resten av landet. Kvelden avsluttes med mingling, mat og god drikke.
LOCATION:Rosenkildehuset
END:VEVENT


END:VCALENDAR



