
BEGIN:VCALENDAR
VERSION:2.0
PRODID:-//MarkedsPartner AS//Umbraco CMS//NO
TIMEZONE-ID:Europe/Oslo
X-WR-TIMEZONE:Europe/Oslo


BEGIN:VEVENT
UID:c671dbbb56d447518246704237cd6df8
URL:https://stavangernaering-2023.azurewebsites.net/moeter/arkiv/boligkonferansen-2021/
ORGANIZER;CN=Ola Normann:MAILTO:ola.normann@markedspartner.no
DTSTAMP:20211027T090000Z
DTSTART:20211027T090000Z
DTEND:20211027T190000Z
LAST-MODIFIED:20221031T122734Z
SUMMARY:BOLIGKONFERANSEN 2021: Hvordan bygger vi og hvordan vil vi bo?
DESCRIPTION:Vi presenterer den rykende ferske Planundersøkelsen 2021. Vi avslører hvordan folk her i regionen helst vil bo, vi ser på de økonomiske utsiktene etter koronaen, diskuterer årsakene til det såkalte arkitekturopprøret – og mye mer. På Boligkonferansen i år har vi med oss sjeføkonom Harald Magnus Andreassen, OBOS-sjef Daniel Kjørberg Siraj, Jenny B. Osuldsen fra Snøhetta, Stavanger-ordfører Kari Nessa Nordtun og mange flere. Leif Tore Lindø og Jan Zahl er konferansierer. Nytt av året er at vi avslutter med en skikkelig festmiddag på kvelden – for alle som vil. Ikke gå glipp av årets store møteplass for boligbransjen.
X-ALT-DESC:Vi presenterer den rykende ferske Planunders&#248;kelsen 2021. Vi avsl&#248;rer hvordan folk her i regionen helst vil bo, vi ser p&#229; de &#248;konomiske utsiktene etter koronaen, diskuterer &#229;rsakene til det s&#229;kalte arkitekturoppr&#248;ret – og mye mer. P&#229; Boligkonferansen i &#229;r har vi med oss sjef&#248;konom Harald Magnus Andreassen, OBOS-sjef Daniel Kj&#248;rberg Siraj, Jenny B. Osuldsen fra Sn&#248;hetta, Stavanger-ordf&#248;rer Kari Nessa Nordtun og mange flere. Leif Tore Lind&#248; og Jan Zahl er konferansierer. Nytt av &#229;ret er at vi avslutter med en skikkelig festmiddag p&#229; kvelden – for alle som vil. Ikke g&#229; glipp av &#229;rets store m&#248;teplass for boligbransjen.
LOCATION:Clarion Hotel Energy
END:VEVENT


END:VCALENDAR



