
BEGIN:VCALENDAR
VERSION:2.0
PRODID:-//MarkedsPartner AS//Umbraco CMS//NO
TIMEZONE-ID:Europe/Oslo
X-WR-TIMEZONE:Europe/Oslo


BEGIN:VEVENT
UID:48a28ed0b53b42a5b6bf3c9199236b4b
URL:https://stavangernaering-2023.azurewebsites.net/moeter/arkiv/boers-og-fakultet_22092021/
ORGANIZER;CN=Ola Normann:MAILTO:ola.normann@markedspartner.no
DTSTAMP:20210922T054500Z
DTSTART:20210922T054500Z
DTEND:20210922T071500Z
LAST-MODIFIED:20221031T122353Z
SUMMARY:Børs og fakultet: Hva koster det grønne skiftet?
DESCRIPTION:Møtet drøfter det grønne skiftet og omstillingen av norsk økonomi mot et samfunn med lavere klimagassutslipp i et samfunnsøkonomisk og innovasjonsforskning perspektiv. 
Klarer det norske samfunnet å lage en politikk og virkemidler som gir en samfunnsøkonomisk effektiv omstilling til et samfunn med lavere klimautslipp? Er det aktører med mye politisk makt som legger vesentlige premisser, og hva betyr dette for innretningen og effektiviteten til tiltakene? Hvordan skal vi vurdere de tiltakene som regjeringen så langt har satt i verk, og hva betyr disse for vår region?
X-ALT-DESC:M&#248;tet dr&#248;fter det gr&#248;nne skiftet og omstillingen av norsk &#248;konomi mot et samfunn med lavere klimagassutslipp i et samfunns&#248;konomisk og innovasjonsforskning perspektiv. 
Klarer det norske samfunnet &#229; lage en politikk og virkemidler som gir en samfunns&#248;konomisk effektiv omstilling til et samfunn med lavere klimautslipp? Er det akt&#248;rer med mye politisk makt som legger vesentlige premisser, og hva betyr dette for innretningen og effektiviteten til tiltakene? Hvordan skal vi vurdere de tiltakene som regjeringen s&#229; langt har satt i verk, og hva betyr disse for v&#229;r region?
LOCATION:UiS Campus Ullandhaug, Handelsh&#248;gskolen ved UiS
END:VEVENT


END:VCALENDAR



