
BEGIN:VCALENDAR
VERSION:2.0
PRODID:-//MarkedsPartner AS//Umbraco CMS//NO
TIMEZONE-ID:Europe/Oslo
X-WR-TIMEZONE:Europe/Oslo


BEGIN:VEVENT
UID:e915faaf1dc64b0cbcc0a64eaba2684d
URL:https://stavangernaering-2023.azurewebsites.net/moeter/arkiv/bli-god-aa-presentere-online_140122/
ORGANIZER;CN=Ola Normann:MAILTO:ola.normann@markedspartner.no
DTSTAMP:20220114T100000Z
DTSTART:20220114T100000Z
DTEND:20220114T113000Z
LAST-MODIFIED:20221031T123119Z
SUMMARY:Bli  god til å presentere online
DESCRIPTION:DIGITAL KONFERANSE: Synes du det er vanskelig å holde gode online presentasjoner og like vanskelig å forberede online møter? Du er ikke alene! Espen Laeng har laget et kort treningsprogram for hvordan du kan forbedre presentasjoner på nettet.
X-ALT-DESC:DIGITAL KONFERANSE: Synes du det er vanskelig &#229; holde gode online presentasjoner og like vanskelig &#229; forberede online m&#248;ter? Du er ikke alene! Espen Laeng har laget et kort treningsprogram for hvordan du kan forbedre presentasjoner p&#229; nettet.
LOCATION:Digital konferanse
END:VEVENT


END:VCALENDAR



