
BEGIN:VCALENDAR
VERSION:2.0
PRODID:-//MarkedsPartner AS//Umbraco CMS//NO
TIMEZONE-ID:Europe/Oslo
X-WR-TIMEZONE:Europe/Oslo


BEGIN:VEVENT
UID:de72d9f74d564871ab98ecdc8118db88
URL:https://stavangernaering-2023.azurewebsites.net/moeter/arkiv/arbeidsrett_210121/
ORGANIZER;CN=Ola Normann:MAILTO:ola.normann@markedspartner.no
DTSTAMP:20210121T110000Z
DTSTART:20210121T110000Z
DTEND:20210121T123000Z
LAST-MODIFIED:20221031T120113Z
SUMMARY:Hjelp, vi har fått krav om tariffavtale
DESCRIPTION:DIGITALKONFERANSE: Hjelp, vi har fått krav om tariffavtale!
X-ALT-DESC:DIGITALKONFERANSE: Hjelp, vi har f&#229;tt krav om tariffavtale!
LOCATION:Online
END:VEVENT


END:VCALENDAR



