
BEGIN:VCALENDAR
VERSION:2.0
PRODID:-//MarkedsPartner AS//Umbraco CMS//NO
TIMEZONE-ID:Europe/Oslo
X-WR-TIMEZONE:Europe/Oslo


BEGIN:VEVENT
UID:51984e6258714a0099cc9ea684493c68
URL:https://stavangernaering-2023.azurewebsites.net/moeter/arkiv/ai-serien-3-_nov-2024/
ORGANIZER;CN=Ola Normann:MAILTO:ola.normann@markedspartner.no
DTSTAMP:20241119T070000Z
DTSTART:20241119T070000Z
DTEND:20241119T090000Z
LAST-MODIFIED:20241119T125409Z
SUMMARY:AI: Prompting – fra enkle instruksjoner til innsikter
DESCRIPTION:AI blir en integrert del av forretningsdriften. Evnen til å formulere presise prompter og anvende kritisk tenkning vil transformere din organisasjons tilnærming til AI, og omdanne enkle instruksjoner til verdifulle innsikter. Bli med oss for å oppdage hvordan disse ferdighetene kan forbedre beslutningene for å drive innovasjon i din bedrift.
X-ALT-DESC:AI blir en integrert del av forretningsdriften. Evnen til &#229; formulere presise prompter og anvende kritisk tenkning vil transformere din organisasjons tiln&#230;rming til AI, og omdanne enkle instruksjoner til verdifulle innsikter. Bli med oss for &#229; oppdage hvordan disse ferdighetene kan forbedre beslutningene for &#229; drive innovasjon i din bedrift.
LOCATION:Rosenkildehuset
END:VEVENT


END:VCALENDAR



