
BEGIN:VCALENDAR
VERSION:2.0
PRODID:-//MarkedsPartner AS//Umbraco CMS//NO
TIMEZONE-ID:Europe/Oslo
X-WR-TIMEZONE:Europe/Oslo


BEGIN:VEVENT
UID:8eabd324849f41b3b21289191d73e2ff
URL:https://stavangernaering-2023.azurewebsites.net/moeter/arkiv/5050-likestillingsprogram/
ORGANIZER;CN=Ola Normann:MAILTO:ola.normann@markedspartner.no
DTSTAMP:20210114T100000Z
DTSTART:20210114T100000Z
DTEND:20210114T113000Z
LAST-MODIFIED:20221031T115934Z
SUMMARY:50/50 Likestillingsprogram 
DESCRIPTION:DIGITALKONFERANSE: Næringsforeningens ressursgruppe 50/50 har etablert et konkret mål for likestilling i næringslivet i Stavanger-regionen. Velkommen til likestillingsprogrammet som vil styrke konkurranseevnen hos medlemsbedriftene.
X-ALT-DESC:DIGITALKONFERANSE: N&#230;ringsforeningens ressursgruppe 50/50 har etablert et konkret m&#229;l for likestilling i n&#230;ringslivet i Stavanger-regionen. Velkommen til likestillingsprogrammet som vil styrke konkurranseevnen hos medlemsbedriftene.
LOCATION:webinar
END:VEVENT


END:VCALENDAR



