
BEGIN:VCALENDAR
VERSION:2.0
PRODID:-//MarkedsPartner AS//Umbraco CMS//NO
TIMEZONE-ID:Europe/Oslo
X-WR-TIMEZONE:Europe/Oslo


BEGIN:VEVENT
UID:be5707ef1cfb49bc93cd6ec94a541471
URL:https://stavangernaering-2023.azurewebsites.net/moeter-utenfor-kalender/student_medlemskap/
ORGANIZER;CN=Ola Normann:MAILTO:ola.normann@markedspartner.no
DTSTAMP:20251231T070000Z
DTSTART:20251231T070000Z
DTEND:20251231T070000Z
LAST-MODIFIED:20250912T124110Z
SUMMARY:Studentmedlemskap i Næringsforeningen 
DESCRIPTION:Få maksimalt utbytte av studietiden: bli medlem i Norges største næringslivsnettverk.
X-ALT-DESC:F&#229; maksimalt utbytte av studietiden: bli medlem i Norges st&#248;rste n&#230;ringslivsnettverk.
LOCATION:N&#230;ringsforeningen i Stavanger-regionen
END:VEVENT


END:VCALENDAR



