
BEGIN:VCALENDAR
VERSION:2.0
PRODID:-//MarkedsPartner AS//Umbraco CMS//NO
TIMEZONE-ID:Europe/Oslo
X-WR-TIMEZONE:Europe/Oslo


BEGIN:VEVENT
UID:96304a94420e41dbbfdc43c93d2c538b
URL:https://stavangernaering-2023.azurewebsites.net/moeter-utenfor-kalender/lederskolen_291021_streaming/
ORGANIZER;CN=Ola Normann:MAILTO:ola.normann@markedspartner.no
DTSTAMP:20211029T090000Z
DTSTART:20211029T090000Z
DTEND:20211029T110000Z
LAST-MODIFIED:20211014T133512Z
SUMMARY:Lederskolen: Vaner spiser intensjoner til frokost- STREAMING
DESCRIPTION:Vaner spiser intensjoner til frokost. Myten om gjennomtenkte valg! Professor Bendik Meling Samuelsen har alltid vært nysgjerrig på hvorfor forbrukerne tar de valgene de gjør.
X-ALT-DESC:Vaner spiser intensjoner til frokost. Myten om gjennomtenkte valg! Professor Bendik Meling Samuelsen har alltid v&#230;rt nysgjerrig p&#229; hvorfor forbrukerne tar de valgene de gj&#248;r.
LOCATION:online
END:VEVENT


END:VCALENDAR



