
BEGIN:VCALENDAR
VERSION:2.0
PRODID:-//MarkedsPartner AS//Umbraco CMS//NO
TIMEZONE-ID:Europe/Oslo
X-WR-TIMEZONE:Europe/Oslo


BEGIN:VEVENT
UID:205b35fbc6a84107abf696dd639c6189
URL:https://stavangernaering-2023.azurewebsites.net/moeter-utenfor-kalender/alle-samlinger-lederskolen-vaaren-2021/
ORGANIZER;CN=Ola Normann:MAILTO:ola.normann@markedspartner.no
DTSTAMP:20210205T100000Z
DTSTART:20210205T100000Z
DTEND:20210205T100000Z
LAST-MODIFIED:20210226T124707Z
SUMMARY:Lederskolen våren 2021: Alle samlingene
DESCRIPTION:Hva er mer naturlig enn å styrke kompetansen din som leder når vi i nå i 2021 skal kjempe oss ut av koronapandemien? Meld deg på vårens samlinger i Lederskolen her til en hyggelig pakkepris.
X-ALT-DESC:Hva er mer naturlig enn &#229; styrke kompetansen din som leder n&#229;r vi i n&#229; i 2021 skal kjempe oss ut av koronapandemien? Meld deg p&#229; v&#229;rens samlinger i Lederskolen her til en hyggelig pakkepris.
LOCATION:
END:VEVENT


END:VCALENDAR



