
BEGIN:VCALENDAR
VERSION:2.0
PRODID:-//MarkedsPartner AS//Umbraco CMS//NO
TIMEZONE-ID:Europe/Oslo
X-WR-TIMEZONE:Europe/Oslo


BEGIN:VEVENT
UID:f57c03f9ee3c45ab8994b51701731fcb
URL:https://stavangernaering-2023.azurewebsites.net/en/events/archive/worklife-balanse_sept-2021/
ORGANIZER;CN=Ola Normann:MAILTO:ola.normann@markedspartner.no
DTSTAMP:20211125T173000Z
DTSTART:20211125T173000Z
DTEND:20211125T200000Z
LAST-MODIFIED:20211126T121229Z
SUMMARY:Work life balance in Norway
DESCRIPTION:At this event we will try to share information about Norwegian working culture, and our best practice tips.
X-ALT-DESC:At this event we will try to share information about Norwegian working culture, and our best practice tips.
LOCATION:Rosenkildehuset
END:VEVENT


END:VCALENDAR



