
BEGIN:VCALENDAR
VERSION:2.0
PRODID:-//MarkedsPartner AS//Umbraco CMS//NO
TIMEZONE-ID:Europe/Oslo
X-WR-TIMEZONE:Europe/Oslo


BEGIN:VEVENT
UID:b85d60751bb74b95b0ff81a07668b7a2
URL:https://stavangernaering-2023.azurewebsites.net/en/events/archive/winter-wonderland_january-2023/
ORGANIZER;CN=Ola Normann:MAILTO:ola.normann@markedspartner.no
DTSTAMP:20230108T150000Z
DTSTART:20230108T150000Z
DTEND:20230108T170000Z
LAST-MODIFIED:20230108T181556Z
SUMMARY:Tips and tricks for popular winter activities
DESCRIPTION:Would you like some inspiration for fun winter activities? We`ll talk about where to go, how to dress, safety, and of course the weather!
X-ALT-DESC:Would you like some inspiration for fun winter activities? We`ll talk about where to go, how to dress, safety, and of course the weather!
LOCATION:Rosenkildehuset, Strandkaien 6, 4005 Stavanger
END:VEVENT


END:VCALENDAR



