
BEGIN:VCALENDAR
VERSION:2.0
PRODID:-//MarkedsPartner AS//Umbraco CMS//NO
TIMEZONE-ID:Europe/Oslo
X-WR-TIMEZONE:Europe/Oslo


BEGIN:VEVENT
UID:68929904551d434cbb313176e7ac55f3
URL:https://stavangernaering-2023.azurewebsites.net/en/events/archive/winter-wonderland_251120/
ORGANIZER;CN=Ola Normann:MAILTO:ola.normann@markedspartner.no
DTSTAMP:20201125T173000Z
DTSTART:20201125T173000Z
DTEND:20201125T184500Z
LAST-MODIFIED:20201126T181300Z
SUMMARY:Webinar: Winter wonderland
DESCRIPTION:Are you new in Norway and curious about outdoor activities in the snow and cold climate? Join us online for an inspirational evening about outdoor winter fun.
X-ALT-DESC:Are you new in Norway and curious about outdoor activities in the snow and cold climate? Join us online for an inspirational evening about outdoor winter fun.
LOCATION:Virtual conference
END:VEVENT


END:VCALENDAR



