
BEGIN:VCALENDAR
VERSION:2.0
PRODID:-//MarkedsPartner AS//Umbraco CMS//NO
TIMEZONE-ID:Europe/Oslo
X-WR-TIMEZONE:Europe/Oslo


BEGIN:VEVENT
UID:e8b2aa1dcca14d38a804fe6fcfadecda
URL:https://stavangernaering-2023.azurewebsites.net/en/events/archive/winter-outdoor-fun_070221/
ORGANIZER;CN=Ola Normann:MAILTO:ola.normann@markedspartner.no
DTSTAMP:20210207T100000Z
DTSTART:20210207T100000Z
DTEND:20210207T123000Z
LAST-MODIFIED:20210209T102217Z
SUMMARY:Experience Norwegian outdoor winter activities
DESCRIPTION:There´s snow and ice on the lakes so a perfect opportunity to challenge yourself!
X-ALT-DESC:There&#180;s snow and ice on the lakes so a perfect opportunity to challenge yourself!
LOCATION:Lille Stokkavann, Stavanger
END:VEVENT


END:VCALENDAR



