
BEGIN:VCALENDAR
VERSION:2.0
PRODID:-//MarkedsPartner AS//Umbraco CMS//NO
TIMEZONE-ID:Europe/Oslo
X-WR-TIMEZONE:Europe/Oslo


BEGIN:VEVENT
UID:eb6cc0b35e004e4a8fa986bac95d9a9f
URL:https://stavangernaering-2023.azurewebsites.net/en/events/archive/winter-outdoor-activities_dec2023/
ORGANIZER;CN=Ola Normann:MAILTO:ola.normann@markedspartner.no
DTSTAMP:20231206T173000Z
DTSTART:20231206T173000Z
DTEND:20231206T193000Z
LAST-MODIFIED:20231207T081331Z
SUMMARY:Popular winter activities, incl skiing
DESCRIPTION:Would you like some inspiration for fun winter activities? We`ll talk about where to go, how to start skiing for the first time, how to dress, safety, and of course the weather!
X-ALT-DESC:Would you like some inspiration for fun winter activities? We`ll talk about where to go, how to start skiing for the first time, how to dress, safety, and of course the weather!
LOCATION:Rosenkildehuset, Strandkaien 6, 4005 Stavanger
END:VEVENT


END:VCALENDAR



