
BEGIN:VCALENDAR
VERSION:2.0
PRODID:-//MarkedsPartner AS//Umbraco CMS//NO
TIMEZONE-ID:Europe/Oslo
X-WR-TIMEZONE:Europe/Oslo


BEGIN:VEVENT
UID:d5957087a9864a5785a93492e406b588
URL:https://stavangernaering-2023.azurewebsites.net/en/events/archive/winter-fun-activities_011221/
ORGANIZER;CN=Ola Normann:MAILTO:ola.normann@markedspartner.no
DTSTAMP:20211201T170000Z
DTSTART:20211201T170000Z
DTEND:20211201T190000Z
LAST-MODIFIED:20211202T151126Z
SUMMARY:Winter fun activities
DESCRIPTION:Skiing, hiking, skating, playing or just having fun outdoors. Please join us to get inspired by Amy Mir, Ekspedisjonsjenta.
X-ALT-DESC:Skiing, hiking, skating, playing or just having fun outdoors. Please join us to get inspired by Amy Mir, Ekspedisjonsjenta.
LOCATION:Rosenkildehuset, Strandkaien 6, 4005 Stavanger
END:VEVENT


END:VCALENDAR



