
BEGIN:VCALENDAR
VERSION:2.0
PRODID:-//MarkedsPartner AS//Umbraco CMS//NO
TIMEZONE-ID:Europe/Oslo
X-WR-TIMEZONE:Europe/Oslo


BEGIN:VEVENT
UID:92fa761587804023984ac13897f600d6
URL:https://stavangernaering-2023.azurewebsites.net/en/events/archive/welcome-to-stavanger-2308/
ORGANIZER;CN=Ola Normann:MAILTO:ola.normann@markedspartner.no
DTSTAMP:20230823T163000Z
DTSTART:20230823T163000Z
DTEND:20230823T190000Z
LAST-MODIFIED:20230824T060645Z
SUMMARY:Welcome to Stavanger
DESCRIPTION:Stavanger has inhabitants from 181 countries. It is important that all newcomers to the region, whether they come from other places in Norway or other countries, are introduced to networks that can be of great benefit both professionally and privately.
X-ALT-DESC:Stavanger has inhabitants from 181 countries. It is important that all newcomers to the region, whether they come from other places in Norway or other countries, are introduced to networks that can be of great benefit both professionally and privately.
LOCATION:Rosenkildehuset
END:VEVENT


END:VCALENDAR



