
BEGIN:VCALENDAR
VERSION:2.0
PRODID:-//MarkedsPartner AS//Umbraco CMS//NO
TIMEZONE-ID:Europe/Oslo
X-WR-TIMEZONE:Europe/Oslo


BEGIN:VEVENT
UID:871d5d44872f41a8b13b1523b6f5ee06
URL:https://stavangernaering-2023.azurewebsites.net/en/events/archive/webinar-starting-a-new-business_181120-1/
ORGANIZER;CN=Ola Normann:MAILTO:ola.normann@markedspartner.no
DTSTAMP:20201118T173000Z
DTSTART:20201118T173000Z
DTEND:20201118T190000Z
LAST-MODIFIED:20201118T201948Z
SUMMARY:Webinar: How to Design a Venture That Matters
DESCRIPTION:Whether you are already an entrepreneur, newly started , or just have an idea, this webinar will provide you with practical techniques and best practices for starting a business – with a focus on how to design it for enduring success.
X-ALT-DESC:Whether you are already an entrepreneur, newly started , or just have an idea, this webinar will provide you with practical techniques and best practices for starting a business – with a focus on how to design it for enduring success.
LOCATION:Webinar
END:VEVENT


END:VCALENDAR



