
BEGIN:VCALENDAR
VERSION:2.0
PRODID:-//MarkedsPartner AS//Umbraco CMS//NO
TIMEZONE-ID:Europe/Oslo
X-WR-TIMEZONE:Europe/Oslo


BEGIN:VEVENT
UID:b6bdada688314f89bed04dd5664f7693
URL:https://stavangernaering-2023.azurewebsites.net/en/events/archive/webinar-smartphone-photography/
ORGANIZER;CN=Ola Normann:MAILTO:ola.normann@markedspartner.no
DTSTAMP:20200420T163000Z
DTSTART:20200420T163000Z
DTEND:20200420T173000Z
LAST-MODIFIED:20200612T113331Z
SUMMARY:Webinar: Smartphone photography
DESCRIPTION:Learn how to take better images with your phone from the comfort of your living room. Because the best camera is the one you have with you!
X-ALT-DESC:Learn how to take better images with your phone from the comfort of your living room. Because the best camera is the one you have with you!
LOCATION:
END:VEVENT


END:VCALENDAR



