
BEGIN:VCALENDAR
VERSION:2.0
PRODID:-//MarkedsPartner AS//Umbraco CMS//NO
TIMEZONE-ID:Europe/Oslo
X-WR-TIMEZONE:Europe/Oslo


BEGIN:VEVENT
UID:3052cfef73804f42947e2c614d856b1f
URL:https://stavangernaering-2023.azurewebsites.net/en/events/archive/webinar-lunch-learn_270320/
ORGANIZER;CN=Ola Normann:MAILTO:ola.normann@markedspartner.no
DTSTAMP:20200327T110000Z
DTSTART:20200327T110000Z
DTEND:20200327T113000Z
LAST-MODIFIED:20200612T113330Z
SUMMARY:Webinar: Lunch and Learn Foreign currency and Exchange rates
DESCRIPTION:The world is in a crisis and everything is changing. Whole economies are at risk; with companies and jobs threatened as markets react to turmoil.   The Stavanger-region hosts a large number of international staff and companies, and there are many concerns regarding economy and exchange rates.
X-ALT-DESC:The world is in a crisis and everything is changing. Whole economies are at risk; with companies and jobs threatened as markets react to turmoil.   The Stavanger-region hosts a large number of international staff and companies, and there are many concerns regarding economy and exchange rates.
LOCATION:Rosenkildehuset
END:VEVENT


END:VCALENDAR



