
BEGIN:VCALENDAR
VERSION:2.0
PRODID:-//MarkedsPartner AS//Umbraco CMS//NO
TIMEZONE-ID:Europe/Oslo
X-WR-TIMEZONE:Europe/Oslo


BEGIN:VEVENT
UID:1b3feb53af104b9ab25360fb80fb98c8
URL:https://stavangernaering-2023.azurewebsites.net/en/events/archive/webinar-lunch-and-learn_240320/
ORGANIZER;CN=Ola Normann:MAILTO:ola.normann@markedspartner.no
DTSTAMP:20200324T110000Z
DTSTART:20200324T110000Z
DTEND:20200324T113000Z
LAST-MODIFIED:20200612T113330Z
SUMMARY:Webinar Lunch and Learn: Legal consequences of Covid-19
DESCRIPTION:Join us for this Webinar with Attorney-at-law, Partner, Bård Ivar Koppang,  Lawfirm Selmer AS.
X-ALT-DESC:Join us for this Webinar with Attorney-at-law, Partner, B&#229;rd Ivar Koppang,  Lawfirm Selmer AS.
LOCATION:Rosenkildehuset
END:VEVENT


END:VCALENDAR



