
BEGIN:VCALENDAR
VERSION:2.0
PRODID:-//MarkedsPartner AS//Umbraco CMS//NO
TIMEZONE-ID:Europe/Oslo
X-WR-TIMEZONE:Europe/Oslo


BEGIN:VEVENT
UID:1954623ef29a4d079584b6f7685430e7
URL:https://stavangernaering-2023.azurewebsites.net/en/events/archive/webinar-lunch-and-learn-labour-law_200320/
ORGANIZER;CN=Ola Normann:MAILTO:ola.normann@markedspartner.no
DTSTAMP:20200320T110000Z
DTSTART:20200320T110000Z
DTEND:20200320T113000Z
LAST-MODIFIED:20200612T113330Z
SUMMARY:Webinar Lunch and Learn: Labour Law
DESCRIPTION:Labour Law! It is a state of emergency, and both employers and employees face situations they have not previously experienced.
X-ALT-DESC:Labour Law! It is a state of emergency, and both employers and employees face situations they have not previously experienced.
LOCATION:Rosenkildehuset
END:VEVENT


END:VCALENDAR



