
BEGIN:VCALENDAR
VERSION:2.0
PRODID:-//MarkedsPartner AS//Umbraco CMS//NO
TIMEZONE-ID:Europe/Oslo
X-WR-TIMEZONE:Europe/Oslo


BEGIN:VEVENT
UID:7cca200e80c944338bed5f16aa891bdc
URL:https://stavangernaering-2023.azurewebsites.net/en/events/archive/webinar-from-idea-to-operation_120520/
ORGANIZER;CN=Ola Normann:MAILTO:ola.normann@markedspartner.no
DTSTAMP:20200512T140000Z
DTSTART:20200512T140000Z
DTEND:20200512T150000Z
LAST-MODIFIED:20200612T113332Z
SUMMARY:From Idea To Operationalized Application In Weeks, Not Years
DESCRIPTION:In this exclusive webinar, Cognite, OutSystems and PwC will share their expertise on what it takes to enable organizations to go from idea all the way to operationalized digital applications with an actual use case example.
X-ALT-DESC:In this exclusive webinar, Cognite, OutSystems and PwC will share their expertise on what it takes to enable organizations to go from idea all the way to operationalized digital applications with an actual use case example.
LOCATION:Virtually
END:VEVENT


END:VCALENDAR



