
BEGIN:VCALENDAR
VERSION:2.0
PRODID:-//MarkedsPartner AS//Umbraco CMS//NO
TIMEZONE-ID:Europe/Oslo
X-WR-TIMEZONE:Europe/Oslo


BEGIN:VEVENT
UID:a2af82a7873d47f5b422000b331c0086
URL:https://stavangernaering-2023.azurewebsites.net/en/events/archive/webinar-cycle-training-and-maintenance-course_310320/
ORGANIZER;CN=Ola Normann:MAILTO:ola.normann@markedspartner.no
DTSTAMP:20200331T170000Z
DTSTART:20200331T170000Z
DTEND:20200331T183000Z
LAST-MODIFIED:20200612T113331Z
SUMMARY:Webinar: Cycle training and maintenance course
DESCRIPTION:Cycling is a quick and convenient way to travel around the city, as well as getting exercise. Welcome to this webinar where cycle training and maintenance is on the agenda.
X-ALT-DESC:Cycling is a quick and convenient way to travel around the city, as well as getting exercise. Welcome to this webinar where cycle training and maintenance is on the agenda.
LOCATION:Rosenkildehuset
END:VEVENT


END:VCALENDAR



