
BEGIN:VCALENDAR
VERSION:2.0
PRODID:-//MarkedsPartner AS//Umbraco CMS//NO
TIMEZONE-ID:Europe/Oslo
X-WR-TIMEZONE:Europe/Oslo


BEGIN:VEVENT
UID:430433d0f0fe413bb9e45aeb7d91b710
URL:https://stavangernaering-2023.azurewebsites.net/en/events/archive/webinar-cycle-training-and-maintenance-course_220321/
ORGANIZER;CN=Ola Normann:MAILTO:ola.normann@markedspartner.no
DTSTAMP:20210322T180000Z
DTSTART:20210322T180000Z
DTEND:20210322T191500Z
LAST-MODIFIED:20210323T074218Z
SUMMARY:Cycle training and maintenance 
DESCRIPTION:DIGITAL CONFERENCE: Cycling is a quick and convenient way to travel around the city, as well as getting exercise. Welcome to this webinar where cycle training and maintenance is on the agenda.
X-ALT-DESC:DIGITAL CONFERENCE: Cycling is a quick and convenient way to travel around the city, as well as getting exercise. Welcome to this webinar where cycle training and maintenance is on the agenda.
LOCATION:Virtuel conference
END:VEVENT


END:VCALENDAR



