
BEGIN:VCALENDAR
VERSION:2.0
PRODID:-//MarkedsPartner AS//Umbraco CMS//NO
TIMEZONE-ID:Europe/Oslo
X-WR-TIMEZONE:Europe/Oslo


BEGIN:VEVENT
UID:d8020ca994b748f297ebcdf5e1cf6666
URL:https://stavangernaering-2023.azurewebsites.net/en/events/archive/webinar-cv-registration/
ORGANIZER;CN=Ola Normann:MAILTO:ola.normann@markedspartner.no
DTSTAMP:20210209T100000Z
DTSTART:20210209T100000Z
DTEND:20210209T113000Z
LAST-MODIFIED:20210216T131244Z
SUMMARY:CV Registration and Labour Market Update
DESCRIPTION:WEBINAR: CV registration at nav.no.  Target group for this webinar is unemployed job seekers.
X-ALT-DESC:WEBINAR: CV registration at nav.no.  Target group for this webinar is unemployed job seekers.
LOCATION:Webinar.
END:VEVENT


END:VCALENDAR



