
BEGIN:VCALENDAR
VERSION:2.0
PRODID:-//MarkedsPartner AS//Umbraco CMS//NO
TIMEZONE-ID:Europe/Oslo
X-WR-TIMEZONE:Europe/Oslo


BEGIN:VEVENT
UID:4db29a581f4a434791c190f7943ecee3
URL:https://stavangernaering-2023.azurewebsites.net/en/events/archive/webinar-corona/
ORGANIZER;CN=Ola Normann:MAILTO:ola.normann@markedspartner.no
DTSTAMP:20200427T120000Z
DTSTART:20200427T120000Z
DTEND:20200427T124500Z
LAST-MODIFIED:20200612T113332Z
SUMMARY:Webinar: How is Stavanger dealing with Corona?
DESCRIPTION:We are in the midst of a serious pandemic outbreak. How are the local authorities dealing with the situation?
X-ALT-DESC:We are in the midst of a serious pandemic outbreak. How are the local authorities dealing with the situation?
LOCATION:Webinar
END:VEVENT


END:VCALENDAR



