
BEGIN:VCALENDAR
VERSION:2.0
PRODID:-//MarkedsPartner AS//Umbraco CMS//NO
TIMEZONE-ID:Europe/Oslo
X-WR-TIMEZONE:Europe/Oslo


BEGIN:VEVENT
UID:421f97b14f1a42c082dff63906483c5e
URL:https://stavangernaering-2023.azurewebsites.net/en/events/archive/webinar-arbeidsplassennavno_010420/
ORGANIZER;CN=Ola Normann:MAILTO:ola.normann@markedspartner.no
DTSTAMP:20200401T110000Z
DTSTART:20200401T110000Z
DTEND:20200401T114500Z
LAST-MODIFIED:20200612T113331Z
SUMMARY:Webinar: Arbeidsplassen.nav.no
DESCRIPTION:Are you looking for a job, or in need of employees?
X-ALT-DESC:Are you looking for a job, or in need of employees?
LOCATION:online
END:VEVENT


END:VCALENDAR



