
BEGIN:VCALENDAR
VERSION:2.0
PRODID:-//MarkedsPartner AS//Umbraco CMS//NO
TIMEZONE-ID:Europe/Oslo
X-WR-TIMEZONE:Europe/Oslo


BEGIN:VEVENT
UID:e0fcfbda1a8d4d2c9d8605b3c93ecc38
URL:https://stavangernaering-2023.azurewebsites.net/en/events/archive/walking-after-dark_031121/
ORGANIZER;CN=Ola Normann:MAILTO:ola.normann@markedspartner.no
DTSTAMP:20211103T173000Z
DTSTART:20211103T173000Z
DTEND:20211103T193000Z
LAST-MODIFIED:20211104T070211Z
SUMMARY:Walking after dark: Stokkavannet
DESCRIPTION:We are entering the dark season, but outdoor activities and fresh air are still important in an active everyday life.
X-ALT-DESC:We are entering the dark season, but outdoor activities and fresh air are still important in an active everyday life.
LOCATION:Parking lot at Gustav Vigeland vei 7, 4023 Stavanger
END:VEVENT


END:VCALENDAR



