
BEGIN:VCALENDAR
VERSION:2.0
PRODID:-//MarkedsPartner AS//Umbraco CMS//NO
TIMEZONE-ID:Europe/Oslo
X-WR-TIMEZONE:Europe/Oslo


BEGIN:VEVENT
UID:5d39b4de16114579b379dae95a83034a
URL:https://stavangernaering-2023.azurewebsites.net/en/events/archive/walk-and-talk_291120/
ORGANIZER;CN=Ola Normann:MAILTO:ola.normann@markedspartner.no
DTSTAMP:20201129T120000Z
DTSTART:20201129T120000Z
DTEND:20201129T140000Z
LAST-MODIFIED:20201130T070520Z
SUMMARY:Walk and talk GAUSEL TUREN
DESCRIPTION:This is a wonderful way to meet new people as well as getting fresh air and excersise in a very safe outdoor setting.
X-ALT-DESC:This is a wonderful way to meet new people as well as getting fresh air and excersise in a very safe outdoor setting.
LOCATION:Meeting point: Gausel station, 4032 Gausel
END:VEVENT


END:VCALENDAR



