
BEGIN:VCALENDAR
VERSION:2.0
PRODID:-//MarkedsPartner AS//Umbraco CMS//NO
TIMEZONE-ID:Europe/Oslo
X-WR-TIMEZONE:Europe/Oslo


BEGIN:VEVENT
UID:e678df12bce24562ac369f9288cf068e
URL:https://stavangernaering-2023.azurewebsites.net/en/events/archive/walk-and-talk_281120/
ORGANIZER;CN=Ola Normann:MAILTO:ola.normann@markedspartner.no
DTSTAMP:20201128T120000Z
DTSTART:20201128T120000Z
DTEND:20201128T140000Z
LAST-MODIFIED:20201129T081705Z
SUMMARY:Walk and talk HUNDVÅG
DESCRIPTION:This is a wonderful way to meet new people as well as getting fresh air and excersise in a very safe outdoor setting.
X-ALT-DESC:This is a wonderful way to meet new people as well as getting fresh air and excersise in a very safe outdoor setting.
LOCATION:Meeting point: Hundv&#229;ghallen, Austb&#248;svingene 54, 4086 Hundv&#229;g
END:VEVENT


END:VCALENDAR



