
BEGIN:VCALENDAR
VERSION:2.0
PRODID:-//MarkedsPartner AS//Umbraco CMS//NO
TIMEZONE-ID:Europe/Oslo
X-WR-TIMEZONE:Europe/Oslo


BEGIN:VEVENT
UID:b6cc18d50f1d45a9b2fc5e4c4454f086
URL:https://stavangernaering-2023.azurewebsites.net/en/events/archive/walk-and-talk_271121/
ORGANIZER;CN=Ola Normann:MAILTO:ola.normann@markedspartner.no
DTSTAMP:20201204T100000Z
DTSTART:20201204T100000Z
DTEND:20201204T120000Z
LAST-MODIFIED:20211116T142538Z
SUMMARY:Walk and talk HAFRSFJORD
DESCRIPTION:This is a wonderful way to meet new people as well as getting fresh air and excersise in a very safe outdoor setting.
X-ALT-DESC:This is a wonderful way to meet new people as well as getting fresh air and excersise in a very safe outdoor setting.
LOCATION:Meeting point: Parking lot at &quot;Sverd I Fjell&quot;,  Hafrsfjord
END:VEVENT


END:VCALENDAR



