
BEGIN:VCALENDAR
VERSION:2.0
PRODID:-//MarkedsPartner AS//Umbraco CMS//NO
TIMEZONE-ID:Europe/Oslo
X-WR-TIMEZONE:Europe/Oslo


BEGIN:VEVENT
UID:d6546d2e994948aeac92a03dc12d1d05
URL:https://stavangernaering-2023.azurewebsites.net/en/events/archive/walk-and-talk_271121-1/
ORGANIZER;CN=Ola Normann:MAILTO:ola.normann@markedspartner.no
DTSTAMP:20211127T100000Z
DTSTART:20211127T100000Z
DTEND:20211127T120000Z
LAST-MODIFIED:20211127T160431Z
SUMMARY:Walk and talk HAFRSFJORD
DESCRIPTION:We all need some social interaction with others. Join us for Walk and Talk around Hafrsfjord.
X-ALT-DESC:We all need some social interaction with others. Join us for Walk and Talk around Hafrsfjord.
LOCATION:Meeting point: Parking lot at &quot;Sverd I Fjell&quot;,  Hafrsfjord
END:VEVENT


END:VCALENDAR



