
BEGIN:VCALENDAR
VERSION:2.0
PRODID:-//MarkedsPartner AS//Umbraco CMS//NO
TIMEZONE-ID:Europe/Oslo
X-WR-TIMEZONE:Europe/Oslo


BEGIN:VEVENT
UID:621498e437ae4d12af4e5f970b0e21c3
URL:https://stavangernaering-2023.azurewebsites.net/en/events/archive/walk-and-talk_181221/
ORGANIZER;CN=Ola Normann:MAILTO:ola.normann@markedspartner.no
DTSTAMP:20211218T100000Z
DTSTART:20211218T100000Z
DTEND:20211218T123000Z
LAST-MODIFIED:20211220T115218Z
SUMMARY:Walk and talk Stokkavatnet
DESCRIPTION:This is a wonderful way to meet new people as well as getting fresh air and excersise in a very safe outdoor setting.
X-ALT-DESC:This is a wonderful way to meet new people as well as getting fresh air and excersise in a very safe outdoor setting.
LOCATION:Stokkavatnet, meet at the parking lot Gustav Vigeland vei.
END:VEVENT


END:VCALENDAR



