
BEGIN:VCALENDAR
VERSION:2.0
PRODID:-//MarkedsPartner AS//Umbraco CMS//NO
TIMEZONE-ID:Europe/Oslo
X-WR-TIMEZONE:Europe/Oslo


BEGIN:VEVENT
UID:c4e4c7c5ad544dbfabca41a3771c0379
URL:https://stavangernaering-2023.azurewebsites.net/en/events/archive/walk-and-talk_151120/
ORGANIZER;CN=Ola Normann:MAILTO:ola.normann@markedspartner.no
DTSTAMP:20201115T120000Z
DTSTART:20201115T120000Z
DTEND:20201115T140000Z
LAST-MODIFIED:20201115T155207Z
SUMMARY:Walk and talk at Storhaug
DESCRIPTION:This is a wonderful way to meet new people as well as getting fresh air and excersise in a very safe outdoor setting.
X-ALT-DESC:This is a wonderful way to meet new people as well as getting fresh air and excersise in a very safe outdoor setting.
LOCATION:Meet at Innovation Dock, Bryggerikaien 24, 4014 Stavanger
END:VEVENT


END:VCALENDAR



