
BEGIN:VCALENDAR
VERSION:2.0
PRODID:-//MarkedsPartner AS//Umbraco CMS//NO
TIMEZONE-ID:Europe/Oslo
X-WR-TIMEZONE:Europe/Oslo


BEGIN:VEVENT
UID:7762eee628194e00a4477a5c0d3d2961
URL:https://stavangernaering-2023.azurewebsites.net/en/events/archive/walk-and-talk_141120/
ORGANIZER;CN=Ola Normann:MAILTO:ola.normann@markedspartner.no
DTSTAMP:20201114T120000Z
DTSTART:20201114T120000Z
DTEND:20201114T140000Z
LAST-MODIFIED:20201115T080423Z
SUMMARY:Walk and talk at Stokkavatnet
DESCRIPTION:This is a wonderful way to meet new people as well as getting fresh air and excersise in a very safe outdoor setting.
X-ALT-DESC:This is a wonderful way to meet new people as well as getting fresh air and excersise in a very safe outdoor setting.
LOCATION:Store Stokkavann, meeting point Gustav Vigeland vei 7, 4022 Stavanger
END:VEVENT


END:VCALENDAR



