
BEGIN:VCALENDAR
VERSION:2.0
PRODID:-//MarkedsPartner AS//Umbraco CMS//NO
TIMEZONE-ID:Europe/Oslo
X-WR-TIMEZONE:Europe/Oslo


BEGIN:VEVENT
UID:351e64e72028454a8ab3283398c51f3e
URL:https://stavangernaering-2023.azurewebsites.net/en/events/archive/walk-and-talk_131220/
ORGANIZER;CN=Ola Normann:MAILTO:ola.normann@markedspartner.no
DTSTAMP:20201213T100000Z
DTSTART:20201213T100000Z
DTEND:20201213T120000Z
LAST-MODIFIED:20201208T125346Z
SUMMARY:Walk and talk SØRMARKATUREN 
DESCRIPTION:This is a wonderful way to meet new people as well as getting fresh air and excersise in a very safe outdoor setting.
X-ALT-DESC:This is a wonderful way to meet new people as well as getting fresh air and excersise in a very safe outdoor setting.
LOCATION:Meeting point: Parking lot  Ullandhaugt&#229;ret
END:VEVENT


END:VCALENDAR



