
BEGIN:VCALENDAR
VERSION:2.0
PRODID:-//MarkedsPartner AS//Umbraco CMS//NO
TIMEZONE-ID:Europe/Oslo
X-WR-TIMEZONE:Europe/Oslo


BEGIN:VEVENT
UID:cacc884b15c540b49898a9ba013043dc
URL:https://stavangernaering-2023.azurewebsites.net/en/events/archive/walk-and-talk_080321/
ORGANIZER;CN=Ola Normann:MAILTO:ola.normann@markedspartner.no
DTSTAMP:20210308T173000Z
DTSTART:20210308T173000Z
DTEND:20210308T183000Z
LAST-MODIFIED:20210310T193800Z
SUMMARY:Dørstokkmila
DESCRIPTION:Due to the pandemic it's challenging meeting new people in a safe environment.  One way of making new friends while getting your daily exercise, is to join the new running group Dørstokkmila.
X-ALT-DESC:Due to the pandemic it&#39;s challenging meeting new people in a safe environment.  One way of making new friends while getting your daily exercise, is to join the new running group D&#248;rstokkmila.
LOCATION:Stavanger Kunstmuseum, Henrik Ibsens gate 55, 4021 Stavanger.
END:VEVENT


END:VCALENDAR



