
BEGIN:VCALENDAR
VERSION:2.0
PRODID:-//MarkedsPartner AS//Umbraco CMS//NO
TIMEZONE-ID:Europe/Oslo
X-WR-TIMEZONE:Europe/Oslo


BEGIN:VEVENT
UID:700270b825fa440a9a9af53bf60e2d75
URL:https://stavangernaering-2023.azurewebsites.net/en/events/archive/walk-and-talk_080122/
ORGANIZER;CN=Ola Normann:MAILTO:ola.normann@markedspartner.no
DTSTAMP:20220108T100000Z
DTSTART:20220108T100000Z
DTEND:20220108T120000Z
LAST-MODIFIED:20220109T144343Z
SUMMARY:Walk and talk Hafrsfjord
DESCRIPTION:We all need some social interaction with others. Join us for Walk and Talk along Hafrsfjord. Host this Saturday is: Goli Sheikhi.
X-ALT-DESC:We all need some social interaction with others. Join us for Walk and Talk along Hafrsfjord. Host this Saturday is: Goli Sheikhi.
LOCATION:Meeting point: Parking lot at &quot;Sverd I Fjell&quot;,  Hafrsfjord
END:VEVENT


END:VCALENDAR



