
BEGIN:VCALENDAR
VERSION:2.0
PRODID:-//MarkedsPartner AS//Umbraco CMS//NO
TIMEZONE-ID:Europe/Oslo
X-WR-TIMEZONE:Europe/Oslo


BEGIN:VEVENT
UID:55847055fd134c0e80ffe351d95d409f
URL:https://stavangernaering-2023.azurewebsites.net/en/events/archive/walk-and-talk_061220/
ORGANIZER;CN=Ola Normann:MAILTO:ola.normann@markedspartner.no
DTSTAMP:20201206T090000Z
DTSTART:20201206T090000Z
DTEND:20201206T143000Z
LAST-MODIFIED:20201206T183749Z
SUMMARY:Walk and Talk Hellestøstranden - Orre
DESCRIPTION:The beaches along Jæren are amazing  all year round.  This Sunday hike is to explore the best of what Rogaland has to offer, new friendships, fresh air and pretty good exercise.
X-ALT-DESC:The beaches along J&#230;ren are amazing  all year round.  This Sunday hike is to explore the best of what Rogaland has to offer, new friendships, fresh air and pretty good exercise.
LOCATION:Meeting point BYTERMINALEN  Stavanger or HELLEST&#216; Beach
END:VEVENT


END:VCALENDAR



