
BEGIN:VCALENDAR
VERSION:2.0
PRODID:-//MarkedsPartner AS//Umbraco CMS//NO
TIMEZONE-ID:Europe/Oslo
X-WR-TIMEZONE:Europe/Oslo


BEGIN:VEVENT
UID:52b79199011c4ad4985438b943506f06
URL:https://stavangernaering-2023.azurewebsites.net/en/events/archive/walk-and-talk_041221/
ORGANIZER;CN=Ola Normann:MAILTO:ola.normann@markedspartner.no
DTSTAMP:20211204T100000Z
DTSTART:20211204T100000Z
DTEND:20211204T120000Z
LAST-MODIFIED:20211208T143809Z
SUMMARY:Walk and talk SØRMARKATUREN 
DESCRIPTION:We all need some social interaction with others. Join us for Walk and Talk around Sørmarka.
X-ALT-DESC:We all need some social interaction with others. Join us for Walk and Talk around S&#248;rmarka.
LOCATION:Meeting point: Parking lot  Ullandhaugt&#229;ret
END:VEVENT


END:VCALENDAR



