
BEGIN:VCALENDAR
VERSION:2.0
PRODID:-//MarkedsPartner AS//Umbraco CMS//NO
TIMEZONE-ID:Europe/Oslo
X-WR-TIMEZONE:Europe/Oslo


BEGIN:VEVENT
UID:29b97ad6083c4db8b40af2fef2577a26
URL:https://stavangernaering-2023.azurewebsites.net/en/events/archive/walk-and-talk_020121/
ORGANIZER;CN=Ola Normann:MAILTO:ola.normann@markedspartner.no
DTSTAMP:20210102T120000Z
DTSTART:20210102T120000Z
DTEND:20210102T140000Z
LAST-MODIFIED:20210104T074507Z
SUMMARY:Walk and talk BYHAUGTUREN- postponed
DESCRIPTION:This is a wonderful way to meet new people as well as getting fresh air and excersise in a very safe outdoor setting.
X-ALT-DESC:This is a wonderful way to meet new people as well as getting fresh air and excersise in a very safe outdoor setting.
LOCATION:Meeting point: Parkinglot Gustav Vigelandsvei (Lille Stokka vann)
END:VEVENT


END:VCALENDAR



