
BEGIN:VCALENDAR
VERSION:2.0
PRODID:-//MarkedsPartner AS//Umbraco CMS//NO
TIMEZONE-ID:Europe/Oslo
X-WR-TIMEZONE:Europe/Oslo


BEGIN:VEVENT
UID:5c14506dbf7047ca8e7a1d5ed42be5ab
URL:https://stavangernaering-2023.azurewebsites.net/en/events/archive/volleyball-godalen_250521/
ORGANIZER;CN=Ola Normann:MAILTO:ola.normann@markedspartner.no
DTSTAMP:20210525T163000Z
DTSTART:20210525T163000Z
DTEND:20210525T183000Z
LAST-MODIFIED:20210527T181437Z
SUMMARY:Volleyball at Godalen
DESCRIPTION:Enjoy an evening by the sea playing volleyball with new people.
X-ALT-DESC:Enjoy an evening by the sea playing volleyball with new people.
LOCATION:Godalen
END:VEVENT


END:VCALENDAR



