
BEGIN:VCALENDAR
VERSION:2.0
PRODID:-//MarkedsPartner AS//Umbraco CMS//NO
TIMEZONE-ID:Europe/Oslo
X-WR-TIMEZONE:Europe/Oslo


BEGIN:VEVENT
UID:80facac7872b430f870c7f4e4b8439e4
URL:https://stavangernaering-2023.azurewebsites.net/en/events/archive/volleyball-at-godalen_230622/
ORGANIZER;CN=Ola Normann:MAILTO:ola.normann@markedspartner.no
DTSTAMP:20220623T163000Z
DTSTART:20220623T163000Z
DTEND:20220623T183000Z
LAST-MODIFIED:20220628T062253Z
SUMMARY:Volleyball at Godalen
DESCRIPTION:Enjoy St. John's Eve by the sea playing volleyball with new people.
X-ALT-DESC:Enjoy St. John&#39;s Eve by the sea playing volleyball with new people.
LOCATION:Godalen
END:VEVENT


END:VCALENDAR



