
BEGIN:VCALENDAR
VERSION:2.0
PRODID:-//MarkedsPartner AS//Umbraco CMS//NO
TIMEZONE-ID:Europe/Oslo
X-WR-TIMEZONE:Europe/Oslo


BEGIN:VEVENT
UID:d8115eb0444f4ff8947277c3d953c7d9
URL:https://stavangernaering-2023.azurewebsites.net/en/events/archive/visit-lervig-brewery/
ORGANIZER;CN=Ola Normann:MAILTO:ola.normann@markedspartner.no
DTSTAMP:20191129T173000Z
DTSTART:20191129T173000Z
DTEND:20191129T190000Z
LAST-MODIFIED:20200612T113327Z
SUMMARY:Visit Lervig Brewery 
DESCRIPTION:A unique chance to visit a modern brewery in Stavanger! A guided tour of the facilities explains the process of beer making, and you get to do all the tasting!
X-ALT-DESC:A unique chance to visit a modern brewery in Stavanger! A guided tour of the facilities explains the process of beer making, and you get to do all the tasting!
LOCATION:Lervig Aktiebryggeri, Vierveien 1, Hillev&#229;g
END:VEVENT


END:VCALENDAR



