
BEGIN:VCALENDAR
VERSION:2.0
PRODID:-//MarkedsPartner AS//Umbraco CMS//NO
TIMEZONE-ID:Europe/Oslo
X-WR-TIMEZONE:Europe/Oslo


BEGIN:VEVENT
UID:c1f713fa55154377a79141ad3368b9f7
URL:https://stavangernaering-2023.azurewebsites.net/en/events/archive/visit-baker-hughes/
ORGANIZER;CN=Ola Normann:MAILTO:ola.normann@markedspartner.no
DTSTAMP:20200220T170000Z
DTSTART:20200220T170000Z
DTEND:20200220T183000Z
LAST-MODIFIED:20200612T113330Z
SUMMARY:Visit Baker Hughes Technology Solutions Centre!
DESCRIPTION:Baker Hughes is one of the leading oil service companies in the world. Just outside Stavanger they have established their Technology Solutions Centre. This is highly exciting stuff. Come and join us for a visit!
X-ALT-DESC:Baker Hughes is one of the leading oil service companies in the world. Just outside Stavanger they have established their Technology Solutions Centre. This is highly exciting stuff. Come and join us for a visit!
LOCATION:Baker Hughes, Sothammargeilen 1, Dusavik.
END:VEVENT


END:VCALENDAR



