
BEGIN:VCALENDAR
VERSION:2.0
PRODID:-//MarkedsPartner AS//Umbraco CMS//NO
TIMEZONE-ID:Europe/Oslo
X-WR-TIMEZONE:Europe/Oslo


BEGIN:VEVENT
UID:a51bfd1c4a7348e19717746681b1bff4
URL:https://stavangernaering-2023.azurewebsites.net/en/events/archive/visit-am-nutrition/
ORGANIZER;CN=Ola Normann:MAILTO:ola.normann@markedspartner.no
DTSTAMP:20191022T160000Z
DTSTART:20191022T160000Z
DTEND:20191022T173000Z
LAST-MODIFIED:20200612T113326Z
SUMMARY:Visit to AM Nutrition!
DESCRIPTION:AM Nutrition is an internationally leading company in the area of food and nutrition. Come and join us for a visit!
X-ALT-DESC:AM Nutrition is an internationally leading company in the area of food and nutrition. Come and join us for a visit!
LOCATION:AM Nutrition/Felleskj&#248;pet Rogaland Agder.
END:VEVENT


END:VCALENDAR



