
BEGIN:VCALENDAR
VERSION:2.0
PRODID:-//MarkedsPartner AS//Umbraco CMS//NO
TIMEZONE-ID:Europe/Oslo
X-WR-TIMEZONE:Europe/Oslo


BEGIN:VEVENT
UID:9feb863efd4043a79e6eff93afaf9c09
URL:https://stavangernaering-2023.azurewebsites.net/en/events/archive/vikingkamp_220625/
ORGANIZER;CN=Ola Normann:MAILTO:ola.normann@markedspartner.no
DTSTAMP:20250622T171500Z
DTSTART:20250622T171500Z
DTEND:20250622T193000Z
LAST-MODIFIED:20250623T104042Z
SUMMARY:Viking - Fredrikstad 
DESCRIPTION:Want to experience a local football game?
X-ALT-DESC:Want to experience a local football game?
LOCATION:Lyse Arena, J&#229;tt&#229;v&#229;gveien 11A, 4020 Stavanger
END:VEVENT


END:VCALENDAR



