
BEGIN:VCALENDAR
VERSION:2.0
PRODID:-//MarkedsPartner AS//Umbraco CMS//NO
TIMEZONE-ID:Europe/Oslo
X-WR-TIMEZONE:Europe/Oslo


BEGIN:VEVENT
UID:6a316a7c9f06478e8abfc6bc986f72f2
URL:https://stavangernaering-2023.azurewebsites.net/en/events/archive/vikingkamp-050524-1-1/
ORGANIZER;CN=Ola Normann:MAILTO:ola.normann@markedspartner.no
DTSTAMP:20240505T171500Z
DTSTART:20240505T171500Z
DTEND:20240505T191500Z
LAST-MODIFIED:20250210T132814Z
SUMMARY:Viking - Tromsø
DESCRIPTION:Want to experience a local football game?
X-ALT-DESC:Want to experience a local football game?
LOCATION:SR-Bank Arena, J&#229;tt&#229;v&#229;gveien 11A, 4020 Stavanger
END:VEVENT


END:VCALENDAR



