
BEGIN:VCALENDAR
VERSION:2.0
PRODID:-//MarkedsPartner AS//Umbraco CMS//NO
TIMEZONE-ID:Europe/Oslo
X-WR-TIMEZONE:Europe/Oslo


BEGIN:VEVENT
UID:d9517a254a03464caf5861926fd1bd16
URL:https://stavangernaering-2023.azurewebsites.net/en/events/archive/vikingkamp-020923/
ORGANIZER;CN=Ola Normann:MAILTO:ola.normann@markedspartner.no
DTSTAMP:20230902T160000Z
DTSTART:20230902T160000Z
DTEND:20230902T180000Z
LAST-MODIFIED:20230904T095625Z
SUMMARY:Want to experience a local football game? 
DESCRIPTION:Saturday the 2nd of September local football team Viking is playing against the Oslo based team Vålerenga. Come join!
X-ALT-DESC:Saturday the 2nd of September local football team Viking is playing against the Oslo based team V&#229;lerenga. Come join!
LOCATION:SR-Bank Arena, J&#229;tt&#229;v&#229;gveien 11A, 4020 Stavanger
END:VEVENT


END:VCALENDAR



